BEGIN:VCALENDAR
VERSION:2.0
PRODID:-//CFA - ECPv6.2.9//NONSGML v1.0//EN
CALSCALE:GREGORIAN
METHOD:PUBLISH
X-WR-CALNAME:CFA
X-ORIGINAL-URL:https://www.conceptualfinearts.com/cfa
X-WR-CALDESC:Events for CFA
REFRESH-INTERVAL;VALUE=DURATION:PT1H
X-Robots-Tag:noindex
X-PUBLISHED-TTL:PT1H
BEGIN:VTIMEZONE
TZID:Europe/Rome
BEGIN:DAYLIGHT
TZOFFSETFROM:+0100
TZOFFSETTO:+0200
TZNAME:CEST
DTSTART:20230326T010000
END:DAYLIGHT
BEGIN:STANDARD
TZOFFSETFROM:+0200
TZOFFSETTO:+0100
TZNAME:CET
DTSTART:20231029T010000
END:STANDARD
END:VTIMEZONE
BEGIN:VEVENT
DTSTART;VALUE=DATE:20230508
DTEND;VALUE=DATE:20230509
DTSTAMP:20260421T014842
CREATED:20230508T135935Z
LAST-MODIFIED:20230508T135935Z
UID:119469-1683504000-1683590399@www.conceptualfinearts.com
SUMMARY:Amelie Von Wulffen: Des Pudels Kern
DESCRIPTION:
URL:https://www.conceptualfinearts.com/cfa/art-calendar/amelie-von-wulffen-des-pudels-kern/
LOCATION:Fitzpatrick Gallery\, Rue de Turrene 123\, Paris\, 75003\, France
END:VEVENT
BEGIN:VEVENT
DTSTART;VALUE=DATE:20230506
DTEND;VALUE=DATE:20230604
DTSTAMP:20260421T014842
CREATED:20230508T142915Z
LAST-MODIFIED:20230508T142915Z
UID:119483-1683331200-1685836799@www.conceptualfinearts.com
SUMMARY:Balthazar Lovay: Noise Drawings 2008-2010
DESCRIPTION:
URL:https://www.conceptualfinearts.com/cfa/art-calendar/balthazar-lovay-noise-drawings-2008-2010/
LOCATION:Weiss Falk – Basel\, Rebgasse 27\, Basel\, 4058\, Switzerland
END:VEVENT
BEGIN:VEVENT
DTSTART;VALUE=DATE:20230504
DTEND;VALUE=DATE:20230605
DTSTAMP:20260421T014842
CREATED:20230503T163309Z
LAST-MODIFIED:20230503T163309Z
UID:119383-1683158400-1685923199@www.conceptualfinearts.com
SUMMARY:Mario Carrieri. Amati fiori 2023
DESCRIPTION:
URL:https://www.conceptualfinearts.com/cfa/art-calendar/mario-carrieri-amati-fiori-2023/
LOCATION:Gallerie d’Italia – Milano\, Piazza della Scala 6\, Milan\, 20121\, Italy
END:VEVENT
BEGIN:VEVENT
DTSTART;VALUE=DATE:20230504
DTEND;VALUE=DATE:20230601
DTSTAMP:20260421T014842
CREATED:20230426T133316Z
LAST-MODIFIED:20230426T133316Z
UID:119341-1683158400-1685577599@www.conceptualfinearts.com
SUMMARY:Bill Hayden: Café Uranus
DESCRIPTION:
URL:https://www.conceptualfinearts.com/cfa/art-calendar/bill-hayden-cafe-uranus/
LOCATION:Galleria Federico Vavassori\, Via Giorgio Giulini 5\, Milan\, 20123\, Italy
END:VEVENT
BEGIN:VEVENT
DTSTART;VALUE=DATE:20230503
DTEND;VALUE=DATE:20230604
DTSTAMP:20260421T014842
CREATED:20230426T132114Z
LAST-MODIFIED:20230426T132114Z
UID:119333-1683072000-1685836799@www.conceptualfinearts.com
SUMMARY:Wolfgang Matuschek
DESCRIPTION:
URL:https://www.conceptualfinearts.com/cfa/art-calendar/wolfgang-matuschek/
LOCATION:Crèvecœur (Beaune)\, 5 rue de Beaune\, Paris\, 75007\, France
END:VEVENT
BEGIN:VEVENT
DTSTART;VALUE=DATE:20230503
DTEND;VALUE=DATE:20230604
DTSTAMP:20260421T014842
CREATED:20230426T132043Z
LAST-MODIFIED:20230426T132043Z
UID:119329-1683072000-1685836799@www.conceptualfinearts.com
SUMMARY:Miho Dohi
DESCRIPTION:
URL:https://www.conceptualfinearts.com/cfa/art-calendar/miho-dohi/
LOCATION:Crèvecœur (Beaune)\, 5 rue de Beaune\, Paris\, 75007\, France
END:VEVENT
BEGIN:VEVENT
DTSTART;VALUE=DATE:20230430
DTEND;VALUE=DATE:20230526
DTSTAMP:20260421T014842
CREATED:20230510T135244Z
LAST-MODIFIED:20230510T135244Z
UID:119527-1682812800-1685059199@www.conceptualfinearts.com
SUMMARY:Kyle Thurman: Dream Police
DESCRIPTION:
URL:https://www.conceptualfinearts.com/cfa/art-calendar/kyle-thurman-dream-police/
LOCATION:Central Fine\, 1224-1226 Normandy Drive\, Miami Beach\, FL\, 33141\, United States
END:VEVENT
BEGIN:VEVENT
DTSTART;VALUE=DATE:20230429
DTEND;VALUE=DATE:20230528
DTSTAMP:20260421T014842
CREATED:20230413T135038Z
LAST-MODIFIED:20230426T133003Z
UID:119255-1682726400-1685231999@www.conceptualfinearts.com
SUMMARY:Nicolas Ceccaldi: Ce ne sont pas les druides que nous cherchons
DESCRIPTION:
URL:https://www.conceptualfinearts.com/cfa/art-calendar/nicolas-ceccaldi/
LOCATION:Édouard Montassut\, 61 rue du Faubourg-Poissonnière\, Paris\, 75009\, France
END:VEVENT
BEGIN:VEVENT
DTSTART;VALUE=DATE:20230428
DTEND;VALUE=DATE:20230604
DTSTAMP:20260421T014842
CREATED:20230412T142728Z
LAST-MODIFIED:20230412T142728Z
UID:119243-1682640000-1685836799@www.conceptualfinearts.com
SUMMARY:Frieda Toranzo Jaeger: Heart Core
DESCRIPTION:
URL:https://www.conceptualfinearts.com/cfa/art-calendar/frieda-toranzo-jaeger-heart-core/
LOCATION:Galerie Barbara Weiss\, Kohlfurter Strasse 41/43\, Berlin\, 10999\, Germany
END:VEVENT
BEGIN:VEVENT
DTSTART;VALUE=DATE:20230427
DTEND;VALUE=DATE:20230604
DTSTAMP:20260421T014842
CREATED:20230510T135842Z
LAST-MODIFIED:20230510T135842Z
UID:119531-1682553600-1685836799@www.conceptualfinearts.com
SUMMARY:Greetings (group show)
DESCRIPTION:
URL:https://www.conceptualfinearts.com/cfa/art-calendar/greetings-group-show/
LOCATION:Galerie Hussenot\, 5 bis rue des Haudriettes\, Paris\, 75003\, France
END:VEVENT
BEGIN:VEVENT
DTSTART;VALUE=DATE:20230427
DTEND;VALUE=DATE:20230604
DTSTAMP:20260421T014842
CREATED:20230412T143156Z
LAST-MODIFIED:20230412T143156Z
UID:119247-1682553600-1685836799@www.conceptualfinearts.com
SUMMARY:Dan Linden: eavesdropping
DESCRIPTION:
URL:https://www.conceptualfinearts.com/cfa/art-calendar/dan-linden-eavesdropping/
LOCATION:Claas Reiss\, 96 Robert Street London NW1 3QP\, London\, United Kingdom
END:VEVENT
BEGIN:VEVENT
DTSTART;VALUE=DATE:20230427
DTEND;VALUE=DATE:20230528
DTSTAMP:20260421T014842
CREATED:20230502T163139Z
LAST-MODIFIED:20230502T163139Z
UID:119375-1682553600-1685231999@www.conceptualfinearts.com
SUMMARY:Those of Us (group show)
DESCRIPTION:
URL:https://www.conceptualfinearts.com/cfa/art-calendar/those-of-us-group-show/
LOCATION:Sandy Brown\, Goebenstrasse 7\, Berlin\, 10783\, Germany
END:VEVENT
BEGIN:VEVENT
DTSTART;VALUE=DATE:20230427
DTEND;VALUE=DATE:20230528
DTSTAMP:20260421T014842
CREATED:20230417T133748Z
LAST-MODIFIED:20230417T133748Z
UID:119287-1682553600-1685231999@www.conceptualfinearts.com
SUMMARY:Omari Douglin
DESCRIPTION:
URL:https://www.conceptualfinearts.com/cfa/art-calendar/omari-douglin/
LOCATION:Ramiken\, 389 Grand Street\, New York\, NY\, 10002\, United States
END:VEVENT
BEGIN:VEVENT
DTSTART;VALUE=DATE:20230426
DTEND;VALUE=DATE:20230528
DTSTAMP:20260421T014842
CREATED:20230412T151043Z
LAST-MODIFIED:20230426T131836Z
UID:119249-1682467200-1685231999@www.conceptualfinearts.com
SUMMARY:Josip Novosel: I am calling the police
DESCRIPTION:
URL:https://www.conceptualfinearts.com/cfa/art-calendar/josip-novosel-i-am-calling-the-police/
LOCATION:Clearing Brussels\, Avenue Van Volxemlaan 311\, Brussels\, 1190\, Belgium
END:VEVENT
BEGIN:VEVENT
DTSTART;VALUE=DATE:20230422
DTEND;VALUE=DATE:20230529
DTSTAMP:20260421T014842
CREATED:20230413T140904Z
LAST-MODIFIED:20230413T140904Z
UID:119264-1682121600-1685318399@www.conceptualfinearts.com
SUMMARY:Roman Selim Khereddine: Big House Narrow Grave
DESCRIPTION:
URL:https://www.conceptualfinearts.com/cfa/art-calendar/roman-selim-khereddine-big-house-narrow-grave/
LOCATION:Sentiment Zurich\, Murwiesentrasse 45\, Zurich\, 8057
END:VEVENT
BEGIN:VEVENT
DTSTART;VALUE=DATE:20230421
DTEND;VALUE=DATE:20230513
DTSTAMP:20260421T014842
CREATED:20230502T161621Z
LAST-MODIFIED:20230502T161621Z
UID:119373-1682035200-1683935999@www.conceptualfinearts.com
SUMMARY:Hristo Mavrev & Marin Mavrev: MAN TO MAN
DESCRIPTION:
URL:https://www.conceptualfinearts.com/cfa/art-calendar/hristo-mavrev-marin-mavrev-man-to-man/
LOCATION:Goswell Road\, 22 rue de l'Échiquier\, Paris\, 75010\, France
END:VEVENT
BEGIN:VEVENT
DTSTART;VALUE=DATE:20230420
DTEND;VALUE=DATE:20230528
DTSTAMP:20260421T014842
CREATED:20230426T134658Z
LAST-MODIFIED:20230426T134658Z
UID:119349-1681948800-1685231999@www.conceptualfinearts.com
SUMMARY:John Riepenhoff: Naked Eye
DESCRIPTION:
URL:https://www.conceptualfinearts.com/cfa/art-calendar/john-riepenhoff-naked-eye/
LOCATION:La Maison De Rendez-Vous\, 23 Avenue Jef Lambeaux\, Bruxelles\, 1060\, Belgium
END:VEVENT
BEGIN:VEVENT
DTSTART;VALUE=DATE:20230420
DTEND;VALUE=DATE:20230424
DTSTAMP:20260421T014842
CREATED:20230311T191702Z
LAST-MODIFIED:20230311T191702Z
UID:118900-1681948800-1682294399@www.conceptualfinearts.com
SUMMARY:Art Brussels
DESCRIPTION:
URL:https://www.conceptualfinearts.com/cfa/art-calendar/art-brussels-2/
LOCATION:Brussels Expo\, Halls 5 & 6\, Place de la Belgique 1\, Brussels\, 1020\, Belgium
END:VEVENT
BEGIN:VEVENT
DTSTART;VALUE=DATE:20230419
DTEND;VALUE=DATE:20230528
DTSTAMP:20260421T014842
CREATED:20230417T133403Z
LAST-MODIFIED:20230417T133403Z
UID:119283-1681862400-1685231999@www.conceptualfinearts.com
SUMMARY:Vojtěch Kovařík: The Labours of Hercules
DESCRIPTION:
URL:https://www.conceptualfinearts.com/cfa/art-calendar/vojtech-kovarik-the-labours-of-hercules/
LOCATION:Mendes Wood DM – Brussels\, 13 Rue des Sablons / Zavelstraat\, Brussels\, 1000\, Belgium
END:VEVENT
BEGIN:VEVENT
DTSTART;VALUE=DATE:20230419
DTEND;VALUE=DATE:20230521
DTSTAMP:20260421T014842
CREATED:20230413T134947Z
LAST-MODIFIED:20230413T134947Z
UID:119253-1681862400-1684627199@www.conceptualfinearts.com
SUMMARY:Ed Atkins
DESCRIPTION:
URL:https://www.conceptualfinearts.com/cfa/art-calendar/ed-atkins/
LOCATION:dépendance\, Varkensmarkt 4\, Brussels\, 1000\, Belgium
END:VEVENT
BEGIN:VEVENT
DTSTART;VALUE=DATE:20230418
DTEND;VALUE=DATE:20230528
DTSTAMP:20260421T014842
CREATED:20230403T081736Z
LAST-MODIFIED:20230328T161906Z
UID:119113-1681776000-1685231999@www.conceptualfinearts.com
SUMMARY:Daniel Dewar & Gregory Gicquel: The Needle and the Chisel
DESCRIPTION:
URL:https://www.conceptualfinearts.com/cfa/art-calendar/daniel-dewar-gregory-gicquel-the-needle-and-the-chisel/
LOCATION:Clearing Brussels\, Avenue Van Volxemlaan 311\, Brussels\, 1190\, Belgium
END:VEVENT
BEGIN:VEVENT
DTSTART;VALUE=DATE:20230418
DTEND;VALUE=DATE:20230521
DTSTAMP:20260421T014842
CREATED:20230417T134817Z
LAST-MODIFIED:20230417T134817Z
UID:119294-1681776000-1684627199@www.conceptualfinearts.com
SUMMARY:Nicole Ondre: Heatwork
DESCRIPTION:
URL:https://www.conceptualfinearts.com/cfa/art-calendar/nicole-ondre-heatwork/
LOCATION:Tanya Leighton (Los Angeles)\, 4654 W Washington Blvd\, Los Angeles\, CA\, 90016\, United States
END:VEVENT
BEGIN:VEVENT
DTSTART;VALUE=DATE:20230416
DTEND;VALUE=DATE:20230515
DTSTAMP:20260421T014842
CREATED:20230417T135045Z
LAST-MODIFIED:20230417T135045Z
UID:119296-1681603200-1684108799@www.conceptualfinearts.com
SUMMARY:Watercolours\, Chapter III (group show)
DESCRIPTION:
URL:https://www.conceptualfinearts.com/cfa/art-calendar/watercolours-chapter-iii-group-show/
LOCATION:Weiss Falk – Basel\, Rebgasse 27\, Basel\, 4058\, Switzerland
END:VEVENT
BEGIN:VEVENT
DTSTART;VALUE=DATE:20230415
DTEND;VALUE=DATE:20230528
DTSTAMP:20260421T014842
CREATED:20230413T141324Z
LAST-MODIFIED:20230413T141324Z
UID:119266-1681516800-1685231999@www.conceptualfinearts.com
SUMMARY:Barbara Wesołowska: A Feeling in Oneself and Voice of Someone Else
DESCRIPTION:
URL:https://www.conceptualfinearts.com/cfa/art-calendar/barbara-wesolowska-a-feeling-in-oneself-and-voice-of-someone-else/
LOCATION:Galeria Stereo\, Bracka 20b/2\, Warsaw\, 00-028\, Poland
END:VEVENT
BEGIN:VEVENT
DTSTART;VALUE=DATE:20230414
DTEND;VALUE=DATE:20230605
DTSTAMP:20260421T014842
CREATED:20230503T163137Z
LAST-MODIFIED:20230503T163137Z
UID:119380-1681430400-1685923199@www.conceptualfinearts.com
SUMMARY:LEOPOLI QUI. La Cultura della Pace
DESCRIPTION:
URL:https://www.conceptualfinearts.com/cfa/art-calendar/leopoli-qui-la-cultura-della-pace/
LOCATION:Accademia Carrara\, Piazza Giacomo Carrara 82\, Bergamo\, 24124\, Italy
END:VEVENT
BEGIN:VEVENT
DTSTART;VALUE=DATE:20230414
DTEND;VALUE=DATE:20230528
DTSTAMP:20260421T014842
CREATED:20230413T141418Z
LAST-MODIFIED:20230413T141418Z
UID:119268-1681430400-1685231999@www.conceptualfinearts.com
SUMMARY:Ndayé Kouagou: Direction\, Direction?
DESCRIPTION:
URL:https://www.conceptualfinearts.com/cfa/art-calendar/ndaye-kouagou-direction-direction-2/
LOCATION:Sundy\, 63 Black Prince Rd\, London\, SE11 5QH\, United Kingdom
END:VEVENT
BEGIN:VEVENT
DTSTART;VALUE=DATE:20230414
DTEND;VALUE=DATE:20230528
DTSTAMP:20260421T014842
CREATED:20230403T145804Z
LAST-MODIFIED:20230403T145804Z
UID:119178-1681430400-1685231999@www.conceptualfinearts.com
SUMMARY:Ndayé Kouagou: Direction\, direction?
DESCRIPTION:
URL:https://www.conceptualfinearts.com/cfa/art-calendar/ndaye-kouagou-direction-direction/
LOCATION:Sundy\, 63 Black Prince Rd\, London\, SE11 5QH\, United Kingdom
END:VEVENT
BEGIN:VEVENT
DTSTART;VALUE=DATE:20230414
DTEND;VALUE=DATE:20230521
DTSTAMP:20260421T014842
CREATED:20230412T143047Z
LAST-MODIFIED:20230412T143047Z
UID:119245-1681430400-1684627199@www.conceptualfinearts.com
SUMMARY:Benjamin Hirte: True Sculpture
DESCRIPTION:
URL:https://www.conceptualfinearts.com/cfa/art-calendar/benjamin-hirte-true-sculpture/
LOCATION:Christian Andersen\, Frederiksholms Kanal 28A\, Copenhagen\, 1220\, Denmark
END:VEVENT
BEGIN:VEVENT
DTSTART;VALUE=DATE:20230413
DTEND;VALUE=DATE:20230528
DTSTAMP:20260421T014842
CREATED:20230412T142113Z
LAST-MODIFIED:20230412T142113Z
UID:119239-1681344000-1685231999@www.conceptualfinearts.com
SUMMARY:Tita Cicognani\, Guillaume Dénervaud\, Gabriele Garavaglia\, Jim C. Nedd\, Jan Vorisek: Don't Worry\, This Will All Be Over Soon
DESCRIPTION:
URL:https://www.conceptualfinearts.com/cfa/art-calendar/tita-cicognani-guillaume-denervaud-gabriele-garavaglia-jim-c-nedd-jan-vorisek-dont-worry-this-will-all-be-over-soon/
LOCATION:Galerie Gregor Steiger (Milan)\, Via Gioacchino Rossini 3\, Milano\, 20122\, Italy
END:VEVENT
BEGIN:VEVENT
DTSTART;VALUE=DATE:20230413
DTEND;VALUE=DATE:20230417
DTSTAMP:20260421T014842
CREATED:20230309T110631Z
LAST-MODIFIED:20230309T110631Z
UID:118895-1681344000-1681689599@www.conceptualfinearts.com
SUMMARY:Miart
DESCRIPTION:
URL:https://www.conceptualfinearts.com/cfa/art-calendar/miart/
LOCATION:Fiera Milan\, Allianz MiCo\, Padiglione 3\, Viale Scarampo\, Milano\, Italy
END:VEVENT
END:VCALENDAR