BEGIN:VCALENDAR
VERSION:2.0
PRODID:-//CFA - ECPv6.2.9//NONSGML v1.0//EN
CALSCALE:GREGORIAN
METHOD:PUBLISH
X-WR-CALNAME:CFA
X-ORIGINAL-URL:https://www.conceptualfinearts.com/cfa
X-WR-CALDESC:Events for CFA
REFRESH-INTERVAL;VALUE=DURATION:PT1H
X-Robots-Tag:noindex
X-PUBLISHED-TTL:PT1H
BEGIN:VTIMEZONE
TZID:Europe/Rome
BEGIN:DAYLIGHT
TZOFFSETFROM:+0100
TZOFFSETTO:+0200
TZNAME:CEST
DTSTART:20230326T010000
END:DAYLIGHT
BEGIN:STANDARD
TZOFFSETFROM:+0200
TZOFFSETTO:+0100
TZNAME:CET
DTSTART:20231029T010000
END:STANDARD
BEGIN:DAYLIGHT
TZOFFSETFROM:+0100
TZOFFSETTO:+0200
TZNAME:CEST
DTSTART:20240331T010000
END:DAYLIGHT
BEGIN:STANDARD
TZOFFSETFROM:+0200
TZOFFSETTO:+0100
TZNAME:CET
DTSTART:20241027T010000
END:STANDARD
END:VTIMEZONE
BEGIN:VEVENT
DTSTART;VALUE=DATE:20230318
DTEND;VALUE=DATE:20230623
DTSTAMP:20260421T004218
CREATED:20230320T151715Z
LAST-MODIFIED:20230320T151715Z
UID:118971-1679097600-1687478399@www.conceptualfinearts.com
SUMMARY:Toni Schmale & Sevina Tzanou: Final Fantasy
DESCRIPTION:
URL:https://www.conceptualfinearts.com/cfa/art-calendar/toni-schmale-sevina-tzanou-final-fantasy/
LOCATION:Temnikova & Kasela\, Peetra 12\, Tallinn\, 10415\, Estonia
END:VEVENT
BEGIN:VEVENT
DTSTART;VALUE=DATE:20230322
DTEND;VALUE=DATE:20230612
DTSTAMP:20260421T004218
CREATED:20230322T153919Z
LAST-MODIFIED:20230322T153919Z
UID:119052-1679443200-1686527999@www.conceptualfinearts.com
SUMMARY:The Ugly Duchess: Beauty and Satire in the Renaissance
DESCRIPTION:
URL:https://www.conceptualfinearts.com/cfa/art-calendar/the-ugly-duchess-beauty-and-satire-in-the-renaissance/
LOCATION:The National Gallery\, Trafalgar Square\, London\, WC2N 5DN\, United Kingdom
END:VEVENT
BEGIN:VEVENT
DTSTART;VALUE=DATE:20230324
DTEND;VALUE=DATE:20230619
DTSTAMP:20260421T004218
CREATED:20230322T161737Z
LAST-MODIFIED:20230322T161737Z
UID:119076-1679616000-1687132799@www.conceptualfinearts.com
SUMMARY:Michael E. Smith
DESCRIPTION:
URL:https://www.conceptualfinearts.com/cfa/art-calendar/michael-e-smith/
LOCATION:Henry Moore Institute\, 74 The Headrow\, Leeds\, LS1 3AH\, United Kingdom
END:VEVENT
BEGIN:VEVENT
DTSTART;VALUE=DATE:20230324
DTEND;VALUE=DATE:20230904
DTSTAMP:20260421T004218
CREATED:20230314T141716Z
LAST-MODIFIED:20230314T141716Z
UID:118929-1679616000-1693785599@www.conceptualfinearts.com
SUMMARY:Asad Raza: Plot
DESCRIPTION:
URL:https://www.conceptualfinearts.com/cfa/art-calendar/asad-raza-plot/
LOCATION:Museion\, P.za Piero Siena 1\, Bolzano\, 39100\, Italy
END:VEVENT
BEGIN:VEVENT
DTSTART;VALUE=DATE:20230324
DTEND;VALUE=DATE:20230717
DTSTAMP:20260421T004218
CREATED:20230322T144536Z
LAST-MODIFIED:20230322T144536Z
UID:119021-1679616000-1689551999@www.conceptualfinearts.com
SUMMARY:Re-Orientations. Europe and Islamic art\, from 1851 to today
DESCRIPTION:
URL:https://www.conceptualfinearts.com/cfa/art-calendar/re-orientations-europe-and-islamic-art-from-1851-to-today/
LOCATION:Kunsthaus Zürich\, Heimplatz\, Zürich\, 8001\, Switzerland
END:VEVENT
BEGIN:VEVENT
DTSTART;VALUE=DATE:20230324
DTEND;VALUE=DATE:20240325
DTSTAMP:20260421T004218
CREATED:20230417T134540Z
LAST-MODIFIED:20230417T134540Z
UID:119289-1679616000-1711324799@www.conceptualfinearts.com
SUMMARY:Afrofuturism. A History of Black Futures
DESCRIPTION:
URL:https://www.conceptualfinearts.com/cfa/art-calendar/afrofuturism-a-history-of-black-futures/
LOCATION:National Museum of African American History and Culture\, 1400 Constitution Ave NW\,\, Washington\, WA\, DC 20560\, United States
END:VEVENT
BEGIN:VEVENT
DTSTART;VALUE=DATE:20230325
DTEND;VALUE=DATE:20230731
DTSTAMP:20260421T004218
CREATED:20230322T143924Z
LAST-MODIFIED:20230322T143924Z
UID:119016-1679702400-1690761599@www.conceptualfinearts.com
SUMMARY:Shirley Jaffe: Form as Experiment
DESCRIPTION:
URL:https://www.conceptualfinearts.com/cfa/art-calendar/shirley-jaffe-form-as-experiment/
LOCATION:Kunstmuseum Basel\, St. Alban-Graben 8\, Basel\, CH-4010\, Switzerland
END:VEVENT
BEGIN:VEVENT
DTSTART;VALUE=DATE:20230325
DTEND;VALUE=DATE:20230814
DTSTAMP:20260421T004218
CREATED:20230322T153802Z
LAST-MODIFIED:20230322T153802Z
UID:119049-1679702400-1691971199@www.conceptualfinearts.com
SUMMARY:After Impressionism: Inventing Modern Art
DESCRIPTION:
URL:https://www.conceptualfinearts.com/cfa/art-calendar/after-impressionism-inventing-modern-art/
LOCATION:The National Gallery\, Trafalgar Square\, London\, WC2N 5DN\, United Kingdom
END:VEVENT
BEGIN:VEVENT
DTSTART;VALUE=DATE:20230325
DTEND;VALUE=DATE:20231030
DTSTAMP:20260421T004218
CREATED:20230323T170115Z
LAST-MODIFIED:20230323T170340Z
UID:119092-1679702400-1698623999@www.conceptualfinearts.com
SUMMARY:Anne Collier: Eye
DESCRIPTION:
URL:https://www.conceptualfinearts.com/cfa/art-calendar/anne-collier-eye/
LOCATION:Lismore Castel Arts\, Co. Waterford\, Lismore\, P51 F859\, Ireland
END:VEVENT
BEGIN:VEVENT
DTSTART;VALUE=DATE:20230328
DTEND;VALUE=DATE:20230724
DTSTAMP:20260421T004218
CREATED:20230322T150853Z
LAST-MODIFIED:20230322T150853Z
UID:119032-1679961600-1690156799@www.conceptualfinearts.com
SUMMARY:Manet / Degas
DESCRIPTION:
URL:https://www.conceptualfinearts.com/cfa/art-calendar/manet-degas/
LOCATION:Musée d’Orsay\, Esplanade Valéry Giscard d'Estaing\, Paris\, 75007\, France
END:VEVENT
BEGIN:VEVENT
DTSTART;VALUE=DATE:20230328
DTEND;VALUE=DATE:20230710
DTSTAMP:20260421T004218
CREATED:20230404T144852Z
LAST-MODIFIED:20230404T144852Z
UID:119199-1679961600-1688947199@www.conceptualfinearts.com
SUMMARY:Guido Reni
DESCRIPTION:
URL:https://www.conceptualfinearts.com/cfa/art-calendar/guido-reni/
LOCATION:Museo Nacional del Prado\, Paseo del Prado s/n\, Madrid\, 28014\, Spain
END:VEVENT
BEGIN:VEVENT
DTSTART;VALUE=DATE:20230401
DTEND;VALUE=DATE:20230717
DTSTAMP:20260421T004218
CREATED:20230508T142301Z
LAST-MODIFIED:20230508T142301Z
UID:119480-1680307200-1689551999@www.conceptualfinearts.com
SUMMARY:Luzie Meyer: Of Urinals and Ornaments
DESCRIPTION:
URL:https://www.conceptualfinearts.com/cfa/art-calendar/luzie-meyer-of-urinals-and-ornaments/
LOCATION:Kunstbrücke am Wildenbruch\, Wildenbruchbrücke Ecke\, Weigandufer\, Berlin\, 12045\, Germany
END:VEVENT
BEGIN:VEVENT
DTSTART;VALUE=DATE:20230401
DTEND;VALUE=DATE:20230911
DTSTAMP:20260421T004218
CREATED:20230508T144716Z
LAST-MODIFIED:20230508T144716Z
UID:119494-1680307200-1694390399@www.conceptualfinearts.com
SUMMARY:Grace Ndiritu: Healing The Museum
DESCRIPTION:
URL:https://www.conceptualfinearts.com/cfa/art-calendar/grace-ndiritu-healing-the-museum/
LOCATION:SMAK\, Jan Hoetplein\, Gand\, 1 9000\, Belgium
END:VEVENT
BEGIN:VEVENT
DTSTART;VALUE=DATE:20230402
DTEND;VALUE=DATE:20230821
DTSTAMP:20260421T004218
CREATED:20230320T153940Z
LAST-MODIFIED:20230320T153940Z
UID:118979-1680393600-1692575999@www.conceptualfinearts.com
SUMMARY:Healing Water
DESCRIPTION:
URL:https://www.conceptualfinearts.com/cfa/art-calendar/healing-water/
LOCATION:Z33\, Bonnefantenstraat 1\, Hasselt\, 3500\, Belgium
END:VEVENT
BEGIN:VEVENT
DTSTART;VALUE=DATE:20230402
DTEND;VALUE=DATE:20230828
DTSTAMP:20260421T004218
CREATED:20230320T154522Z
LAST-MODIFIED:20230320T154522Z
UID:118982-1680393600-1693180799@www.conceptualfinearts.com
SUMMARY:River of Rebirth
DESCRIPTION:
URL:https://www.conceptualfinearts.com/cfa/art-calendar/river-of-rebirth/
LOCATION:Z33\, Bonnefantenstraat 1\, Hasselt\, 3500\, Belgium
END:VEVENT
BEGIN:VEVENT
DTSTART;VALUE=DATE:20230404
DTEND;VALUE=DATE:20230612
DTSTAMP:20260421T004218
CREATED:20230322T141822Z
LAST-MODIFIED:20230322T141822Z
UID:119011-1680566400-1686527999@www.conceptualfinearts.com
SUMMARY:Dosso Dossi. Il fregio di Enea
DESCRIPTION:
URL:https://www.conceptualfinearts.com/cfa/art-calendar/dosso-dossi-il-fregio-di-enea/
LOCATION:Galleria Borghese\, Piazzale Scipione Borghese 5\, Roma\, 00197\, Italy
END:VEVENT
BEGIN:VEVENT
DTSTART;VALUE=DATE:20230406
DTEND;VALUE=DATE:20230925
DTSTAMP:20260421T004218
CREATED:20230322T160648Z
LAST-MODIFIED:20230322T160648Z
UID:119067-1680739200-1695599999@www.conceptualfinearts.com
SUMMARY:The Rossettis
DESCRIPTION:
URL:https://www.conceptualfinearts.com/cfa/art-calendar/the-rossettis/
LOCATION:Tate Britain\, Millbank\, London\, SW1P 4RG\, United Kingdom
END:VEVENT
BEGIN:VEVENT
DTSTART;VALUE=DATE:20230407
DTEND;VALUE=DATE:20230904
DTSTAMP:20260421T004218
CREATED:20230404T132002Z
LAST-MODIFIED:20230404T132002Z
UID:119189-1680825600-1693785599@www.conceptualfinearts.com
SUMMARY:Antéfutur (group show)
DESCRIPTION:
URL:https://www.conceptualfinearts.com/cfa/art-calendar/antefutur-group-show/
LOCATION:CAPC – musée d’art contemporain de Bordeaux\, Rue Ferrère\, 7\, Bourdeaux\, F-33000\, France
END:VEVENT
BEGIN:VEVENT
DTSTART;VALUE=DATE:20230407
DTEND;VALUE=DATE:20240429
DTSTAMP:20260421T004218
CREATED:20230605T140215Z
LAST-MODIFIED:20230605T140237Z
UID:119784-1680825600-1714348799@www.conceptualfinearts.com
SUMMARY:Jean Sabrier: Ce qu'on ne voit pas
DESCRIPTION:
URL:https://www.conceptualfinearts.com/cfa/art-calendar/jean-sabrier-ce-quon-ne-voit-pas-jusquau/
LOCATION:CAPC – musée d’art contemporain de Bordeaux\, Rue Ferrère\, 7\, Bourdeaux\, F-33000\, France
END:VEVENT
BEGIN:VEVENT
DTSTART;VALUE=DATE:20230407
DTEND;VALUE=DATE:20230918
DTSTAMP:20260421T004218
CREATED:20230605T140318Z
LAST-MODIFIED:20230605T140318Z
UID:119787-1680825600-1694995199@www.conceptualfinearts.com
SUMMARY:Cold Case 01: Arsen Savadov
DESCRIPTION:
URL:https://www.conceptualfinearts.com/cfa/art-calendar/cold-case-01-arsen-savadov/
LOCATION:CAPC – musée d’art contemporain de Bordeaux\, Rue Ferrère\, 7\, Bourdeaux\, F-33000\, France
END:VEVENT
BEGIN:VEVENT
DTSTART;VALUE=DATE:20230414
DTEND;VALUE=DATE:20230625
DTSTAMP:20260421T004218
CREATED:20230404T152203Z
LAST-MODIFIED:20230404T152203Z
UID:119202-1681430400-1687651199@www.conceptualfinearts.com
SUMMARY:Dora Budor: Old World
DESCRIPTION:
URL:https://www.conceptualfinearts.com/cfa/art-calendar/dora-budor-old-world/
LOCATION:Molitor\, Kurfürstenstraße 143\, Berlin\, 10785\, Germany
END:VEVENT
BEGIN:VEVENT
DTSTART;VALUE=DATE:20230414
DTEND;VALUE=DATE:20230702
DTSTAMP:20260421T004218
CREATED:20230426T132358Z
LAST-MODIFIED:20230426T132358Z
UID:119335-1681430400-1688255999@www.conceptualfinearts.com
SUMMARY:HC: Fuoco Alle Galere
DESCRIPTION:
URL:https://www.conceptualfinearts.com/cfa/art-calendar/hc-fuoco-alle-galere/
LOCATION:Damien & The Love Guru Brussels\, Rue de tamines\, 19\, Brussels\, 1060\, Belgium
END:VEVENT
BEGIN:VEVENT
DTSTART;VALUE=DATE:20230414
DTEND;VALUE=DATE:20230703
DTSTAMP:20260421T004218
CREATED:20230510T144543Z
LAST-MODIFIED:20230510T144543Z
UID:119538-1681430400-1688342399@www.conceptualfinearts.com
SUMMARY:Giacometti – Dalí. Gardens of dreams
DESCRIPTION:
URL:https://www.conceptualfinearts.com/cfa/art-calendar/giacometti-dali-gardens-of-dreams/
LOCATION:Kunsthaus Zürich\, Heimplatz\, Zürich\, 8001\, Switzerland
END:VEVENT
BEGIN:VEVENT
DTSTART;VALUE=DATE:20230415
DTEND;VALUE=DATE:20230911
DTSTAMP:20260421T004218
CREATED:20230906T162949Z
LAST-MODIFIED:20230906T162949Z
UID:120377-1681516800-1694390399@www.conceptualfinearts.com
SUMMARY:EX - Illustri x Elena Xausa
DESCRIPTION:
URL:https://www.conceptualfinearts.com/cfa/art-calendar/ex-illustri-x-elena-xausa/
LOCATION:Gallerie d’Italia – Vicenza\, Contra’ S. Corona 25\, Vicenza\, 36100\, Italy
END:VEVENT
BEGIN:VEVENT
DTSTART;VALUE=DATE:20230420
DTEND;VALUE=DATE:20230618
DTSTAMP:20260421T004218
CREATED:20230414T145040Z
LAST-MODIFIED:20230414T145040Z
UID:119280-1681948800-1687046399@www.conceptualfinearts.com
SUMMARY:Tatjana Danneberg\, Noémie Degen & Simon Jaton\, Chris Kauffmann\, Gizela Mickiewicz\, Davide Stucchi: I Tried Being Myself\, I Ended Being Others
DESCRIPTION:
URL:https://www.conceptualfinearts.com/cfa/art-calendar/tatjana-danneberg-noemie-degen-simon-jaton-chris-kauffmann-gizela-mickiewicz-davide-stucchi-i-tried-being-myself-i-ended-being-others/
LOCATION:Lovay Fine Arts\, Rue des Sablons 4\, Geneve\, 1205\, Switzerland
END:VEVENT
BEGIN:VEVENT
DTSTART;VALUE=DATE:20230420
DTEND;VALUE=DATE:20230703
DTSTAMP:20260421T004218
CREATED:20230413T150959Z
LAST-MODIFIED:20230413T150959Z
UID:119273-1681948800-1688342399@www.conceptualfinearts.com
SUMMARY:Marina Pinsky: Infinite Play
DESCRIPTION:
URL:https://www.conceptualfinearts.com/cfa/art-calendar/marina-pinsky-infinite-play/
LOCATION:La Loge\, Kluisstraat rue de l’Ermitage 86\, Brussels\, 1050\, Belgium
END:VEVENT
BEGIN:VEVENT
DTSTART;VALUE=DATE:20230420
DTEND;VALUE=DATE:20230904
DTSTAMP:20260421T004218
CREATED:20230504T134231Z
LAST-MODIFIED:20230504T134231Z
UID:119411-1681948800-1693785599@www.conceptualfinearts.com
SUMMARY:Hilma Af Klint & Piet Mondrian: Forms Of Life
DESCRIPTION:
URL:https://www.conceptualfinearts.com/cfa/art-calendar/hilma-af-klint-piet-mondrian-forms-of-life/
LOCATION:Tate Modern\, Bankside\, London\, SE1 9TG\, United Kingdom
END:VEVENT
BEGIN:VEVENT
DTSTART;VALUE=DATE:20230421
DTEND;VALUE=DATE:20230611
DTSTAMP:20260421T004218
CREATED:20230413T134825Z
LAST-MODIFIED:20230426T132818Z
UID:119251-1682035200-1686441599@www.conceptualfinearts.com
SUMMARY:Elizabeth Ravn: Downtime
DESCRIPTION:
URL:https://www.conceptualfinearts.com/cfa/art-calendar/elizabeth-ravn/
LOCATION:Deborah Schamoni\, Mauerkircherstr. 186\, Munich\, D-81925\, Germany
END:VEVENT
BEGIN:VEVENT
DTSTART;VALUE=DATE:20230422
DTEND;VALUE=DATE:20230911
DTSTAMP:20260421T004218
CREATED:20230508T144628Z
LAST-MODIFIED:20230508T144628Z
UID:119491-1682121600-1694390399@www.conceptualfinearts.com
SUMMARY:Haegue Yang: Several Reenactments
DESCRIPTION:
URL:https://www.conceptualfinearts.com/cfa/art-calendar/haegue-yang-several-reenactments/
LOCATION:SMAK\, Jan Hoetplein\, Gand\, 1 9000\, Belgium
END:VEVENT
BEGIN:VEVENT
DTSTART;VALUE=DATE:20230422
DTEND;VALUE=DATE:20230911
DTSTAMP:20260421T004218
CREATED:20230605T141205Z
LAST-MODIFIED:20230605T141205Z
UID:119793-1682121600-1694390399@www.conceptualfinearts.com
SUMMARY:Pieter Engels: Fabulous Oldest Hits
DESCRIPTION:
URL:https://www.conceptualfinearts.com/cfa/art-calendar/pieter-engels-fabulous-oldest-hits/
LOCATION:SMAK\, Jan Hoetplein\, Gand\, 1 9000\, Belgium
END:VEVENT
END:VCALENDAR