BEGIN:VCALENDAR
VERSION:2.0
PRODID:-//CFA - ECPv6.2.9//NONSGML v1.0//EN
CALSCALE:GREGORIAN
METHOD:PUBLISH
X-ORIGINAL-URL:https://www.conceptualfinearts.com/cfa
X-WR-CALDESC:Events for CFA
REFRESH-INTERVAL;VALUE=DURATION:PT1H
X-Robots-Tag:noindex
X-PUBLISHED-TTL:PT1H
BEGIN:VTIMEZONE
TZID:Europe/Rome
BEGIN:DAYLIGHT
TZOFFSETFROM:+0100
TZOFFSETTO:+0200
TZNAME:CEST
DTSTART:20230326T010000
END:DAYLIGHT
BEGIN:STANDARD
TZOFFSETFROM:+0200
TZOFFSETTO:+0100
TZNAME:CET
DTSTART:20231029T010000
END:STANDARD
END:VTIMEZONE
BEGIN:VEVENT
DTSTART;VALUE=DATE:20230420
DTEND;VALUE=DATE:20230618
DTSTAMP:20260421T045149
CREATED:20230414T145040Z
LAST-MODIFIED:20230414T145040Z
UID:119280-1681948800-1687046399@www.conceptualfinearts.com
SUMMARY:Tatjana Danneberg\, Noémie Degen & Simon Jaton\, Chris Kauffmann\, Gizela Mickiewicz\, Davide Stucchi: I Tried Being Myself\, I Ended Being Others
DESCRIPTION:
URL:https://www.conceptualfinearts.com/cfa/art-calendar/tatjana-danneberg-noemie-degen-simon-jaton-chris-kauffmann-gizela-mickiewicz-davide-stucchi-i-tried-being-myself-i-ended-being-others/
LOCATION:Lovay Fine Arts\, Rue des Sablons 4\, Geneve\, 1205\, Switzerland
END:VEVENT
BEGIN:VEVENT
DTSTART;VALUE=DATE:20230420
DTEND;VALUE=DATE:20230703
DTSTAMP:20260421T045149
CREATED:20230413T150959Z
LAST-MODIFIED:20230413T150959Z
UID:119273-1681948800-1688342399@www.conceptualfinearts.com
SUMMARY:Marina Pinsky: Infinite Play
DESCRIPTION:
URL:https://www.conceptualfinearts.com/cfa/art-calendar/marina-pinsky-infinite-play/
LOCATION:La Loge\, Kluisstraat rue de l’Ermitage 86\, Brussels\, 1050\, Belgium
END:VEVENT
BEGIN:VEVENT
DTSTART;VALUE=DATE:20230420
DTEND;VALUE=DATE:20230904
DTSTAMP:20260421T045149
CREATED:20230504T134231Z
LAST-MODIFIED:20230504T134231Z
UID:119411-1681948800-1693785599@www.conceptualfinearts.com
SUMMARY:Hilma Af Klint & Piet Mondrian: Forms Of Life
DESCRIPTION:
URL:https://www.conceptualfinearts.com/cfa/art-calendar/hilma-af-klint-piet-mondrian-forms-of-life/
LOCATION:Tate Modern\, Bankside\, London\, SE1 9TG\, United Kingdom
END:VEVENT
BEGIN:VEVENT
DTSTART;VALUE=DATE:20230421
DTEND;VALUE=DATE:20230611
DTSTAMP:20260421T045149
CREATED:20230413T134825Z
LAST-MODIFIED:20230426T132818Z
UID:119251-1682035200-1686441599@www.conceptualfinearts.com
SUMMARY:Elizabeth Ravn: Downtime
DESCRIPTION:
URL:https://www.conceptualfinearts.com/cfa/art-calendar/elizabeth-ravn/
LOCATION:Deborah Schamoni\, Mauerkircherstr. 186\, Munich\, D-81925\, Germany
END:VEVENT
BEGIN:VEVENT
DTSTART;VALUE=DATE:20230422
DTEND;VALUE=DATE:20230911
DTSTAMP:20260421T045149
CREATED:20230508T144628Z
LAST-MODIFIED:20230508T144628Z
UID:119491-1682121600-1694390399@www.conceptualfinearts.com
SUMMARY:Haegue Yang: Several Reenactments
DESCRIPTION:
URL:https://www.conceptualfinearts.com/cfa/art-calendar/haegue-yang-several-reenactments/
LOCATION:SMAK\, Jan Hoetplein\, Gand\, 1 9000\, Belgium
END:VEVENT
BEGIN:VEVENT
DTSTART;VALUE=DATE:20230422
DTEND;VALUE=DATE:20230911
DTSTAMP:20260421T045149
CREATED:20230605T141205Z
LAST-MODIFIED:20230605T141205Z
UID:119793-1682121600-1694390399@www.conceptualfinearts.com
SUMMARY:Pieter Engels: Fabulous Oldest Hits
DESCRIPTION:
URL:https://www.conceptualfinearts.com/cfa/art-calendar/pieter-engels-fabulous-oldest-hits/
LOCATION:SMAK\, Jan Hoetplein\, Gand\, 1 9000\, Belgium
END:VEVENT
BEGIN:VEVENT
DTSTART;VALUE=DATE:20230424
DTEND;VALUE=DATE:20231002
DTSTAMP:20260421T045149
CREATED:20230503T163550Z
LAST-MODIFIED:20230503T163550Z
UID:119385-1682294400-1696204799@www.conceptualfinearts.com
SUMMARY:Andrea Büttner: The Art of Relations
DESCRIPTION:
URL:https://www.conceptualfinearts.com/cfa/art-calendar/andrea-buttner-the-art-of-relations/
LOCATION:Kunstmuseum Basel\, St. Alban-Graben 8\, Basel\, CH-4010\, Switzerland
END:VEVENT
BEGIN:VEVENT
DTSTART;VALUE=DATE:20230425
DTEND;VALUE=DATE:20230731
DTSTAMP:20260421T045149
CREATED:20230503T164722Z
LAST-MODIFIED:20230503T164722Z
UID:119387-1682380800-1690761599@www.conceptualfinearts.com
SUMMARY:Herrera el Mozo y el Barroco total
DESCRIPTION:
URL:https://www.conceptualfinearts.com/cfa/art-calendar/herrera-el-mozo-y-el-barroco-total/
LOCATION:Museo Nacional del Prado\, Paseo del Prado s/n\, Madrid\, 28014\, Spain
END:VEVENT
BEGIN:VEVENT
DTSTART;VALUE=DATE:20230426
DTEND;VALUE=DATE:20230611
DTSTAMP:20260421T045149
CREATED:20230417T134638Z
LAST-MODIFIED:20230417T134638Z
UID:119292-1682467200-1686441599@www.conceptualfinearts.com
SUMMARY:Rhea Dillon: We looked for eyes creased with concern\, but saw only veils
DESCRIPTION:
URL:https://www.conceptualfinearts.com/cfa/art-calendar/rhea-dillon-we-looked-for-eyes-creased-with-concern-but-saw-only-veils/
LOCATION:Sweetwater\, Leipziger Straße 56-58\, Berlin\, 10117\, Germany
END:VEVENT
BEGIN:VEVENT
DTSTART;VALUE=DATE:20230426
DTEND;VALUE=DATE:20230821
DTSTAMP:20260421T045149
CREATED:20230504T133944Z
LAST-MODIFIED:20230504T133944Z
UID:119406-1682467200-1692575999@www.conceptualfinearts.com
SUMMARY:Issac Julien: What Freedom is to me
DESCRIPTION:
URL:https://www.conceptualfinearts.com/cfa/art-calendar/issac-julien-what-freedom-is-to-me/
LOCATION:Tate Britain\, Millbank\, London\, SW1P 4RG\, United Kingdom
END:VEVENT
BEGIN:VEVENT
DTSTART;VALUE=DATE:20230427
DTEND;VALUE=DATE:20230618
DTSTAMP:20260421T045149
CREATED:20230426T134353Z
LAST-MODIFIED:20230426T134353Z
UID:119343-1682553600-1687046399@www.conceptualfinearts.com
SUMMARY:Peter Halley: Paintings and Drawings\, 1980-81
DESCRIPTION:
URL:https://www.conceptualfinearts.com/cfa/art-calendar/peter-halley-paintings-and-drawings-1980-81/
LOCATION:Karma (22 East 2nd Street)\, 22 East 2nd Street\, New York\, NY\, 10003\, United States
END:VEVENT
BEGIN:VEVENT
DTSTART;VALUE=DATE:20230428
DTEND;VALUE=DATE:20230611
DTSTAMP:20260421T045149
CREATED:20230417T133609Z
LAST-MODIFIED:20230417T133609Z
UID:119285-1682640000-1686441599@www.conceptualfinearts.com
SUMMARY:Josefine Reisch: Dowry
DESCRIPTION:
URL:https://www.conceptualfinearts.com/cfa/art-calendar/josefine-reisch-dowry/
LOCATION:Noah Klink\, Kulmer Straße 17\, Berlin\, 10783\, Germany
END:VEVENT
BEGIN:VEVENT
DTSTART;VALUE=DATE:20230428
DTEND;VALUE=DATE:20230618
DTSTAMP:20260421T045149
CREATED:20230413T144055Z
LAST-MODIFIED:20230413T144055Z
UID:119270-1682640000-1687046399@www.conceptualfinearts.com
SUMMARY:Imagine. 10 Unrealized Projects (group show)
DESCRIPTION:
URL:https://www.conceptualfinearts.com/cfa/art-calendar/imagine-10-unrealized-projects-group-show/
LOCATION:Robert Grunenberg\, Marburger Str. 3\, Berlin\, 10789\, Germany
END:VEVENT
BEGIN:VEVENT
DTSTART;VALUE=DATE:20230428
DTEND;VALUE=DATE:20230618
DTSTAMP:20260421T045149
CREATED:20230426T134436Z
LAST-MODIFIED:20230426T134436Z
UID:119345-1682640000-1687046399@www.conceptualfinearts.com
SUMMARY:Jeremy Frey: Out of the Woods
DESCRIPTION:
URL:https://www.conceptualfinearts.com/cfa/art-calendar/jeremy-frey-out-of-the-woods/
LOCATION:Karma (188 & 172 E 2nd Street)\, 172 E 2nd Street\, New York\, NY\, 10009\, United States
END:VEVENT
BEGIN:VEVENT
DTSTART;VALUE=DATE:20230428
DTEND;VALUE=DATE:20230702
DTSTAMP:20260421T045149
CREATED:20230504T150522Z
LAST-MODIFIED:20230504T150522Z
UID:119422-1682640000-1688255999@www.conceptualfinearts.com
SUMMARY:Sophie Reinhold: Träum Weiter
DESCRIPTION:
URL:https://www.conceptualfinearts.com/cfa/art-calendar/sophie-reinhold-traum-weiter/
LOCATION:Galerie Nordenhake – Berlin\, Lindenstrasse 34\, Berlin\, DE-10969\, Germany
END:VEVENT
BEGIN:VEVENT
DTSTART;VALUE=DATE:20230429
DTEND;VALUE=DATE:20230625
DTSTAMP:20260421T045149
CREATED:20230426T140624Z
LAST-MODIFIED:20230426T140624Z
UID:119354-1682726400-1687651199@www.conceptualfinearts.com
SUMMARY:Jonas Lipps: Zeit der Nuraghen\, Teil Zwei
DESCRIPTION:
URL:https://www.conceptualfinearts.com/cfa/art-calendar/jonas-lipps-zeit-der-nuraghen-teil-zwei/
LOCATION:Tanya Leighton (Berlin)\, Kurfürstenstraße 24/25\, Berlin\, 10785\, Germany
END:VEVENT
BEGIN:VEVENT
DTSTART;VALUE=DATE:20230504
DTEND;VALUE=DATE:20230618
DTSTAMP:20260421T045149
CREATED:20230426T140751Z
LAST-MODIFIED:20230426T140751Z
UID:119356-1683158400-1687046399@www.conceptualfinearts.com
SUMMARY:Deanna Havas: Message From the Source
DESCRIPTION:
URL:https://www.conceptualfinearts.com/cfa/art-calendar/deanna-havas-message-from-the-source/
LOCATION:Tara Downs\, 424 Broadway\, Floor 3\, New York\, NY\, 10013\, United States
END:VEVENT
BEGIN:VEVENT
DTSTART;VALUE=DATE:20230504
DTEND;VALUE=DATE:20230618
DTSTAMP:20260421T045149
CREATED:20230426T140842Z
LAST-MODIFIED:20230426T140842Z
UID:119358-1683158400-1687046399@www.conceptualfinearts.com
SUMMARY:Rute Merk: XP
DESCRIPTION:
URL:https://www.conceptualfinearts.com/cfa/art-calendar/rute-merk-xp/
LOCATION:Tara Downs\, 424 Broadway\, Floor 3\, New York\, NY\, 10013\, United States
END:VEVENT
BEGIN:VEVENT
DTSTART;VALUE=DATE:20230505
DTEND;VALUE=DATE:20230611
DTSTAMP:20260421T045149
CREATED:20230426T135917Z
LAST-MODIFIED:20230426T135917Z
UID:119352-1683244800-1686441599@www.conceptualfinearts.com
SUMMARY:Malte Zenses: Fetztage in der Villa
DESCRIPTION:
URL:https://www.conceptualfinearts.com/cfa/art-calendar/malte-zenses-fetztage-in-der-villa/
LOCATION:Sperling\, Regerplatz 9\, Munich\, 81541\, Germany
END:VEVENT
BEGIN:VEVENT
DTSTART;VALUE=DATE:20230506
DTEND;VALUE=DATE:20230618
DTSTAMP:20260421T045149
CREATED:20230426T133115Z
LAST-MODIFIED:20230426T133115Z
UID:119339-1683331200-1687046399@www.conceptualfinearts.com
SUMMARY:Kate Spencer Stewart: Diurne
DESCRIPTION:
URL:https://www.conceptualfinearts.com/cfa/art-calendar/kate-spencer-stewart-diurne/
LOCATION:Emalin\, 1 Holywell Lane\, London\, EC2A 3ET\, United Kingdom
END:VEVENT
BEGIN:VEVENT
DTSTART;VALUE=DATE:20230506
DTEND;VALUE=DATE:20230708
DTSTAMP:20260421T045149
CREATED:20230508T140506Z
LAST-MODIFIED:20230508T140506Z
UID:119471-1683331200-1688774399@www.conceptualfinearts.com
SUMMARY:Sarah Charlesworth: Neverland
DESCRIPTION:
URL:https://www.conceptualfinearts.com/cfa/art-calendar/sarah-charlesworth-neverland/
LOCATION:Karma (7351 Santa Monica Blvd)\, 7351 Santa Monica Blvd\, Los Angeles\, CA\, 90046\, United States
END:VEVENT
BEGIN:VEVENT
DTSTART;VALUE=DATE:20230506
DTEND;VALUE=DATE:20230708
DTSTAMP:20260421T045149
CREATED:20230508T140604Z
LAST-MODIFIED:20230508T140604Z
UID:119473-1683331200-1688774399@www.conceptualfinearts.com
SUMMARY:Reggie Burrows Hodges: The Reckoning
DESCRIPTION:
URL:https://www.conceptualfinearts.com/cfa/art-calendar/reggie-burrows-hodges-the-reckoning/
LOCATION:Karma (7351 Santa Monica Blvd)\, 7351 Santa Monica Blvd\, Los Angeles\, CA\, 90046\, United States
END:VEVENT
BEGIN:VEVENT
DTSTART;VALUE=DATE:20230506
DTEND;VALUE=DATE:20230904
DTSTAMP:20260421T045149
CREATED:20230502T163619Z
LAST-MODIFIED:20230502T163619Z
UID:119378-1683331200-1693785599@www.conceptualfinearts.com
SUMMARY:SHIMABUKU. Me\, We
DESCRIPTION:
URL:https://www.conceptualfinearts.com/cfa/art-calendar/shimabuku-me-we/
LOCATION:Museion\, P.za Piero Siena 1\, Bolzano\, 39100\, Italy
END:VEVENT
BEGIN:VEVENT
DTSTART;VALUE=DATE:20230507
DTEND;VALUE=DATE:20230731
DTSTAMP:20260421T045149
CREATED:20230508T144046Z
LAST-MODIFIED:20230508T144046Z
UID:119489-1683417600-1690761599@www.conceptualfinearts.com
SUMMARY:Wojciech Bakowski: Route Phantom
DESCRIPTION:
URL:https://www.conceptualfinearts.com/cfa/art-calendar/wojciech-bakowski-route-phantom/
LOCATION:Neuer Essener Kunstverein\, Bernestrasse 3\, Essen\, 45127\, Germany
END:VEVENT
BEGIN:VEVENT
DTSTART;VALUE=DATE:20230509
DTEND;VALUE=DATE:20230911
DTSTAMP:20260421T045149
CREATED:20230510T145943Z
LAST-MODIFIED:20230510T145943Z
UID:119543-1683590400-1694390399@www.conceptualfinearts.com
SUMMARY:Calderón and Painting
DESCRIPTION:
URL:https://www.conceptualfinearts.com/cfa/art-calendar/calderon-and-painting/
LOCATION:Museo Nacional del Prado\, Paseo del Prado s/n\, Madrid\, 28014\, Spain
END:VEVENT
BEGIN:VEVENT
DTSTART;VALUE=DATE:20230509
DTEND;VALUE=DATE:20230911
DTSTAMP:20260421T045149
CREATED:20230510T150405Z
LAST-MODIFIED:20230510T150405Z
UID:119545-1683590400-1694390399@www.conceptualfinearts.com
SUMMARY:André Butzer
DESCRIPTION:
URL:https://www.conceptualfinearts.com/cfa/art-calendar/andre-butzer/
LOCATION:Museo Nacional Thyssen-Bornemisza\, Paseo del Prado 8\, Madrid\, 28014\, Spain
END:VEVENT
BEGIN:VEVENT
DTSTART;VALUE=DATE:20230510
DTEND;VALUE=DATE:20230829
DTSTAMP:20260421T045149
CREATED:20230510T145735Z
LAST-MODIFIED:20230510T145735Z
UID:119541-1683676800-1693267199@www.conceptualfinearts.com
SUMMARY:Bizantini. Luoghi\, simboli e comunità di un impero millenario
DESCRIPTION:
URL:https://www.conceptualfinearts.com/cfa/art-calendar/bizantini-luoghi-simboli-e-comunita-di-un-impero-millenario/
LOCATION:Palazzo Madama\, Piazza Castello\, Turin\, 10122\, Italy
END:VEVENT
BEGIN:VEVENT
DTSTART;VALUE=DATE:20230511
DTEND;VALUE=DATE:20230625
DTSTAMP:20260421T045149
CREATED:20230508T140721Z
LAST-MODIFIED:20230508T140721Z
UID:119475-1683763200-1687651199@www.conceptualfinearts.com
SUMMARY:Brilant Milazimi: One ball for all
DESCRIPTION:
URL:https://www.conceptualfinearts.com/cfa/art-calendar/brilant-milazimi-one-ball-for-all/
LOCATION:LambdaLambdaLambda2\, Fehmi Agani/Tirana\, Prishtina\, Kosovo\, 10000
END:VEVENT
BEGIN:VEVENT
DTSTART;VALUE=DATE:20230512
DTEND;VALUE=DATE:20230611
DTSTAMP:20260421T045149
CREATED:20230508T134026Z
LAST-MODIFIED:20230508T134026Z
UID:119461-1683849600-1686441599@www.conceptualfinearts.com
SUMMARY:Paul Heyer: Rivers
DESCRIPTION:
URL:https://www.conceptualfinearts.com/cfa/art-calendar/paul-heyer-rivers/
LOCATION:Chapter NY\, 60 Walker Street\, New York\, 10013\, United States
END:VEVENT
BEGIN:VEVENT
DTSTART;VALUE=DATE:20230512
DTEND;VALUE=DATE:20230611
DTSTAMP:20260421T045149
CREATED:20230508T134103Z
LAST-MODIFIED:20230508T134103Z
UID:119463-1683849600-1686441599@www.conceptualfinearts.com
SUMMARY:Cara Benedetto: Closer
DESCRIPTION:
URL:https://www.conceptualfinearts.com/cfa/art-calendar/cara-benedetto-closer/
LOCATION:Chapter NY\, 60 Walker Street\, New York\, 10013\, United States
END:VEVENT
END:VCALENDAR